BEGIN:VCALENDAR
VERSION:2.0
PRODID:-// - ECPv5.4.0//NONSGML v1.0//EN
CALSCALE:GREGORIAN
METHOD:PUBLISH
X-ORIGINAL-URL:https://kcbearmafia.org
X-WR-CALDESC:Events for 
BEGIN:VTIMEZONE
TZID:America/Chicago
BEGIN:DAYLIGHT
TZOFFSETFROM:-0600
TZOFFSETTO:-0500
TZNAME:CDT
DTSTART:20180311T080000
END:DAYLIGHT
BEGIN:STANDARD
TZOFFSETFROM:-0500
TZOFFSETTO:-0600
TZNAME:CST
DTSTART:20181104T070000
END:STANDARD
END:VTIMEZONE
BEGIN:VEVENT
DTSTART;TZID=America/Chicago:20180519T230000
DTEND;TZID=America/Chicago:20180520T030000
DTSTAMP:20260425T062739
CREATED:20180423T174120Z
LAST-MODIFIED:20180423T174644Z
UID:2033-1526770800-1526785200@kcbearmafia.org
SUMMARY:Afte-Rok: Official Dragnarok After-party
DESCRIPTION:“Hey Macarena” don’t be “stressing’ me pagin’ my beeper”. Stop playing “foolish games” and make plans to join us for the Official Dragnarok 5: Lilith Bears after-hours party\, Afte-Rok. “U can’t touch this” party anywhere else in KC! \n“Near\, far\, wherever you are” you’re not going to want to miss this party. With a special 90’s playlist\, the Dragnarok Queens\, and the awesome bartenders at Woody’s this party will make you “Jump\, Jump”. \nThings get underway at 11 pm\, and the event goes until the “End of the Road” at 3 am. This event is 21+ and no cover charge to attend. Just like any good 90’s party “No Scrubs”!
URL:https://kcbearmafia.org/event/afte-rok-official-dragnarok-after-party/
LOCATION:Woody’s KC\, 3740 Broadway\, Kansas City\, MO\, 64111\, United States
CATEGORIES:KC Bear Mafia Events
END:VEVENT
END:VCALENDAR