BEGIN:VCALENDAR
VERSION:2.0
PRODID:-// - ECPv5.4.0//NONSGML v1.0//EN
CALSCALE:GREGORIAN
METHOD:PUBLISH
X-ORIGINAL-URL:https://kcbearmafia.org
X-WR-CALDESC:Events for 
BEGIN:VTIMEZONE
TZID:America/Chicago
BEGIN:DAYLIGHT
TZOFFSETFROM:-0600
TZOFFSETTO:-0500
TZNAME:CDT
DTSTART:20180311T080000
END:DAYLIGHT
BEGIN:STANDARD
TZOFFSETFROM:-0500
TZOFFSETTO:-0600
TZNAME:CST
DTSTART:20181104T070000
END:STANDARD
END:VTIMEZONE
BEGIN:VEVENT
DTSTART;TZID=America/Chicago:20180613T190000
DTEND;TZID=America/Chicago:20180613T203000
DTSTAMP:20260424T110912
CREATED:20180611T162113Z
LAST-MODIFIED:20180611T162113Z
UID:2155-1528916400-1528921800@kcbearmafia.org
SUMMARY:Annual Meeting & Elections
DESCRIPTION:To All Kansas City Bear Mafia Inc Members:\nNotice of Annual Meeting & Elections \nIn accordance of Chapter 5\, Section 5.2Sec of its Bylaws\, the Kansas City Bear Mafia will hold its annual meeting and elections on June 13th\, 2018 @ 7pm in the Brush Creek Room at the Kauffman Conference Center located at 4801 Rockhill Road\, Kansas City\, Missouri. \nIn addition to our usual business\, this meeting will include nominations and elections of our Marketing/PR Committee Leader\, Finance Committee Leader\, Technology Committee Leader. Each is elected to two year terms. We encourage any interested member to submit any questions and/or a statement of interest to finance@kcbearmafia.org by June 12th\, 2018. You are also encouraged to attend any open member or event committee meetings prior to the election to further your understanding of the organizations functions. \nBelow are the responsibilities as defined by our Bylaws. However\, Committee Leaders often take on additional tasks on an as-needed basis. \nMarketing/Public Relations Committee Leader \nThe Marketing/Public Relations Committee Leader (PRCL) will search for opportunities so Mafia members can connect with others and encourage their involvement with events\, fundraising\, committees and their respective events and or activities. The PRCL will be responsible for reaching out to potential members to educate them about benefits of Mafia membership and facilitate their inclusion The PRCL will foster bridges with the greater community by sharing our social and community programming events The PRCL will concentrate on the branding of the Mafia name\, logo and ideas for all related events. merchandise and advertising. \nFinancial/Recordkeeping Committee Leader \nThe Financial/Recordkeeping Committee Leader (FRCL) will be responsible for maintaining all accounts the Mafia has (post office box\, bank accounts\, attorney and/or accountant\, any account where funds are used). The FRCL will also be responsible for keeping a roster of all committee members and will ensure that each member has met their obligation to vote. The FRCL will ensure that all notes are taken and added to the appropriate locations for review by any member. The FRCL will create templates and spreadsheets where necessary to improve function of the organization. The FRCL will also ensure all funds are used in an appropriate manner and will keep record and tie back to bank statements to ensure no funds are used inappropriately. The FRCL will also ensure tax determination from IRS is processed and kept active along with the articles of incorporation. The FRCL will also assist or delegate assistance where necessary with any other group or committee in which note taking or finances are involved. Meetings with this committee will occur on a quarterly basis\, unless otherwise noted. Agenda will be created and placed on Facebook and the website. The FRCL will also assist where necessary and work with all other committee leader members to advance the stated purpose of the Mafia. The FRCL will also be responsible to maintain a history of the organization (obtaining materials such as news stories\, ticket stubs\, promotional materials and more that involve the mafia) for future use. \nTechnology Committee Leader \nThe role of the Technology Committee Leader (TCL) is to be the external facing technologist for the group and focus on being a “big thinker” in order to grow our roots digitally. The TCL is responsible for maintaining the constant flow of communication between committees and our community. The TCL will do this by creating a secure structure from which all Bear Mafia’s technological resources are available. This includes oversight of e-mail\, website and social media connectivity for all members and preserving the integrity of those accounts. The TCL is responsible for maintaining active upkeep and reporting of all financial needs in order to maintain business continuity for technology resources.
URL:https://kcbearmafia.org/event/annual-meeting-elections/
LOCATION:Kauffman Foundation Conference Center\, 4801 Rockhill Road\, Kansas City\, MO\, 64110\, United States
CATEGORIES:KC Bear Mafia Events
END:VEVENT
END:VCALENDAR