BEGIN:VCALENDAR
VERSION:2.0
PRODID:-// - ECPv5.4.0//NONSGML v1.0//EN
CALSCALE:GREGORIAN
METHOD:PUBLISH
X-ORIGINAL-URL:https://kcbearmafia.org
X-WR-CALDESC:Events for 
BEGIN:VTIMEZONE
TZID:America/Chicago
BEGIN:DAYLIGHT
TZOFFSETFROM:-0600
TZOFFSETTO:-0500
TZNAME:CDT
DTSTART:20180311T080000
END:DAYLIGHT
BEGIN:STANDARD
TZOFFSETFROM:-0500
TZOFFSETTO:-0600
TZNAME:CST
DTSTART:20181104T070000
END:STANDARD
END:VTIMEZONE
BEGIN:VEVENT
DTSTART;TZID=America/Chicago:20181027T183000
DTEND;TZID=America/Chicago:20181027T223000
DTSTAMP:20260419T204631
CREATED:20181001T153319Z
LAST-MODIFIED:20181001T153319Z
UID:2415-1540665000-1540679400@kcbearmafia.org
SUMMARY:Auntie Mame - Themed Movie Watch Party with Pat\, Bryan & Michael
DESCRIPTION:Movie starts at 7:30. \nWeather permitting\, we will overflow to the back yard. If your feeling in the mood\, dress as a random character from the opening party in the movie. \nDon’t worry\, I’ll share some snippets. Avoid Mame and Bryan may actually do drag.
URL:https://kcbearmafia.org/event/auntie-mame-themed-movie-watch-party-with-pat-bryan-michael/
LOCATION:Bryan & Pat’s Place\, 7604 Harris Ave\, Raytown\, MO\, 64138\, United States
CATEGORIES:Member Created Events
END:VEVENT
END:VCALENDAR