BEGIN:VCALENDAR
VERSION:2.0
PRODID:-// - ECPv5.4.0//NONSGML v1.0//EN
CALSCALE:GREGORIAN
METHOD:PUBLISH
X-ORIGINAL-URL:https://kcbearmafia.org
X-WR-CALDESC:Events for 
BEGIN:VTIMEZONE
TZID:America/Chicago
BEGIN:DAYLIGHT
TZOFFSETFROM:-0600
TZOFFSETTO:-0500
TZNAME:CDT
DTSTART:20180311T080000
END:DAYLIGHT
BEGIN:STANDARD
TZOFFSETFROM:-0500
TZOFFSETTO:-0600
TZNAME:CST
DTSTART:20181104T070000
END:STANDARD
END:VTIMEZONE
BEGIN:VEVENT
DTSTART;TZID=America/Chicago:20180713T170000
DTEND;TZID=America/Chicago:20180713T190000
DTSTAMP:20260423T093722
CREATED:20180709T152813Z
LAST-MODIFIED:20180709T152813Z
UID:2244-1531501200-1531508400@kcbearmafia.org
SUMMARY:Bear Coffee
DESCRIPTION:
URL:https://kcbearmafia.org/event/bear-coffee-4/
LOCATION:Opera House KC\, 500 Walnut St\, Kansas City\, MO\, 64106\, United States
CATEGORIES:Member Created Events
END:VEVENT
END:VCALENDAR