BEGIN:VCALENDAR
VERSION:2.0
PRODID:-// - ECPv5.4.0//NONSGML v1.0//EN
CALSCALE:GREGORIAN
METHOD:PUBLISH
X-ORIGINAL-URL:https://kcbearmafia.org
X-WR-CALDESC:Events for 
BEGIN:VTIMEZONE
TZID:America/Chicago
BEGIN:DAYLIGHT
TZOFFSETFROM:-0600
TZOFFSETTO:-0500
TZNAME:CDT
DTSTART:20190310T080000
END:DAYLIGHT
BEGIN:STANDARD
TZOFFSETFROM:-0500
TZOFFSETTO:-0600
TZNAME:CST
DTSTART:20191103T070000
END:STANDARD
END:VTIMEZONE
BEGIN:VEVENT
DTSTART;TZID=America/Chicago:20190101T160000
DTEND;TZID=America/Chicago:20190101T190000
DTSTAMP:20260419T171559
CREATED:20170804T185444Z
LAST-MODIFIED:20190109T204325Z
UID:1716-1546358400-1546369200@kcbearmafia.org
SUMMARY:Bear Happy Hour at Woody's
DESCRIPTION:It’s Woody’s longest running and best attended weekly event! Join the Bear community of Kansas city each week for Bear Happy Hour\, Tuesdays from 4-8pm. Our bartenders will be behind the bar\, slinging drinks and serving great happy hour eats! Tuesday is also “Taco Tuesday” at Woody’s\, featuring $5 Taco plates. \nAt 6pm Larry Sharp and bar owner Jeff Edmondson\, co-host the Bear Trivia Battle. No cost to enter\, but each week we give away lots of cool stuff to the weekly winners. \nGotta eat after work. May as well come to Woody’s for cheap eats and drinks\, cool trivia and and prizes\, and great hang out time with the Bears!
URL:https://kcbearmafia.org/event/bear-happy-hour-3/
LOCATION:Woody’s KC\, 3740 Broadway\, Kansas City\, MO\, 64111\, United States
CATEGORIES:Venue Events
END:VEVENT
END:VCALENDAR