BEGIN:VCALENDAR
VERSION:2.0
PRODID:-// - ECPv5.4.0//NONSGML v1.0//EN
CALSCALE:GREGORIAN
METHOD:PUBLISH
X-ORIGINAL-URL:https://kcbearmafia.org
X-WR-CALDESC:Events for 
BEGIN:VTIMEZONE
TZID:America/Chicago
BEGIN:DAYLIGHT
TZOFFSETFROM:-0600
TZOFFSETTO:-0500
TZNAME:CDT
DTSTART:20180311T080000
END:DAYLIGHT
BEGIN:STANDARD
TZOFFSETFROM:-0500
TZOFFSETTO:-0600
TZNAME:CST
DTSTART:20181104T070000
END:STANDARD
END:VTIMEZONE
BEGIN:VEVENT
DTSTART;TZID=America/Chicago:20180804T110000
DTEND;TZID=America/Chicago:20180804T180000
DTSTAMP:20260422T234459
CREATED:20180626T153302Z
LAST-MODIFIED:20180626T153302Z
UID:2209-1533380400-1533405600@kcbearmafia.org
SUMMARY:Bears Invade TF Expo 2018
DESCRIPTION:Bears! I’m going to TF Expo the first weekend in August and you should come with me! \nWhat is TF Expo? It’s similar to a comic book convention except this one is primarily devoted to TRANSFORMERS! Yes! So exciting! There will be dealers selling Transformers and other action figures and comics. If you’re a geeky guy like me there will be plenty of cool stuff to look at. There will also be panels and guests including the actors who portrayed Grimlock and Perceptor from the Generation 1 cartoon. \nTickets to get in to the dealer room and the panels are just $20 and there are several upgrade packages available depending on how deep you want to go. Even better\, it’s hosted at the same hotel where one week later we’ll be having Bear Crossing! \nLearn more about the convention here: http://www.tfexpo.net/\nYou can get tickets here: https://www.eventbrite.com/e/tf-expo-2018-tickets-44039090104
URL:https://kcbearmafia.org/event/bears-invade-tf-expo-2018/
LOCATION:Adam’s Mark Hotel & Conference Center\, 9103 E 39th St\, Kansas City\, MO\, 64133\, United States
CATEGORIES:Member Created Events
END:VEVENT
END:VCALENDAR