BEGIN:VCALENDAR
VERSION:2.0
PRODID:-// - ECPv5.4.0//NONSGML v1.0//EN
CALSCALE:GREGORIAN
METHOD:PUBLISH
X-ORIGINAL-URL:https://kcbearmafia.org
X-WR-CALDESC:Events for 
BEGIN:VTIMEZONE
TZID:America/Chicago
BEGIN:DAYLIGHT
TZOFFSETFROM:-0600
TZOFFSETTO:-0500
TZNAME:CDT
DTSTART:20180311T080000
END:DAYLIGHT
BEGIN:STANDARD
TZOFFSETFROM:-0500
TZOFFSETTO:-0600
TZNAME:CST
DTSTART:20181104T070000
END:STANDARD
END:VTIMEZONE
BEGIN:VEVENT
DTSTART;TZID=America/Chicago:20180428T160000
DTEND;TZID=America/Chicago:20180428T180000
DTSTAMP:20260425T212233
CREATED:20180423T172919Z
LAST-MODIFIED:20180423T172919Z
UID:2024-1524931200-1524938400@kcbearmafia.org
SUMMARY:Charity Drag Bingo!
DESCRIPTION:It’s Hamburger Mary’s famed Charity Drag Queen Bingo. And this ain’t your grandma’s bingo\, baby! It’s loud\, wild\, dirty\, and a hella lotta fun. And it’s all for a great cause. Great drinks\, great food\, great fun. \nOur charity for the evening is The Kansas City Bear Mafia. Call now for your reservations because we almost always fill up! 816-842-1919
URL:https://kcbearmafia.org/event/charity-drag-bingo/
LOCATION:Hamburger Mary’s\, 3700 Broadway Blvd #110\, Kansas City\, MO\, 64111\, United States
CATEGORIES:Community Events,KC Bear Mafia Events
END:VEVENT
END:VCALENDAR