BEGIN:VCALENDAR
VERSION:2.0
PRODID:-// - ECPv5.4.0//NONSGML v1.0//EN
CALSCALE:GREGORIAN
METHOD:PUBLISH
X-ORIGINAL-URL:https://kcbearmafia.org
X-WR-CALDESC:Events for 
BEGIN:VTIMEZONE
TZID:America/Chicago
BEGIN:DAYLIGHT
TZOFFSETFROM:-0600
TZOFFSETTO:-0500
TZNAME:CDT
DTSTART:20190310T080000
END:DAYLIGHT
BEGIN:STANDARD
TZOFFSETFROM:-0500
TZOFFSETTO:-0600
TZNAME:CST
DTSTART:20191103T070000
END:STANDARD
END:VTIMEZONE
BEGIN:VEVENT
DTSTART;TZID=America/Chicago:20190119T180000
DTEND;TZID=America/Chicago:20190119T220000
DTSTAMP:20260419T123017
CREATED:20190109T201958Z
LAST-MODIFIED:20190109T201958Z
UID:3305-1547920800-1547935200@kcbearmafia.org
SUMMARY:E.T. the Extra-Terrestrial - Movie Night
DESCRIPTION:Just an excuse to eat noting but Reese’s Pieces. \nJoin Bryan and Pat for one of Bryan’s favorites. \nMore details to come.
URL:https://kcbearmafia.org/event/e-t-the-extra-terrestrial-movie-night/
LOCATION:Bryan & Pat’s Place\, 7604 Harris Ave\, Raytown\, MO\, 64138\, United States
CATEGORIES:Member Created Events
END:VEVENT
END:VCALENDAR