BEGIN:VCALENDAR
VERSION:2.0
PRODID:-// - ECPv5.4.0//NONSGML v1.0//EN
CALSCALE:GREGORIAN
METHOD:PUBLISH
X-ORIGINAL-URL:https://kcbearmafia.org
X-WR-CALDESC:Events for 
BEGIN:VTIMEZONE
TZID:America/Chicago
BEGIN:DAYLIGHT
TZOFFSETFROM:-0600
TZOFFSETTO:-0500
TZNAME:CDT
DTSTART:20180311T080000
END:DAYLIGHT
BEGIN:STANDARD
TZOFFSETFROM:-0500
TZOFFSETTO:-0600
TZNAME:CST
DTSTART:20181104T070000
END:STANDARD
END:VTIMEZONE
BEGIN:VEVENT
DTSTART;TZID=America/Chicago:20180604T170000
DTEND;TZID=America/Chicago:20180604T210000
DTSTAMP:20260424T163928
CREATED:20180514T213623Z
LAST-MODIFIED:20180514T213623Z
UID:2069-1528131600-1528146000@kcbearmafia.org
SUMMARY:Guac on! Chipotle Fundraiser
DESCRIPTION:Chipotle Mexican Grill 1713 W 39th St\, Kansas City\, Missouri 6411 \n  \nMake dinner a selfless act by joining the Kansas City Bear Mafia at Chipotle. Come in to the Chipotle at 1713 W. 39th street in Kansas City on Monday\, June 4th between 5:00 pm -9:00 pm. Show the flyer on your smartphone or tell the cashier you’re supporting the cause to make sure that 50% of the proceeds get donated to the KC Bear Mafia. We can’t wait to see you there. \nProceeds help us meet the grant requests for our 2018 beneficiaries. \nThe Union – A Midwest Transguy Coterie\nKansas City Anti-Violence Project\nFosterAdopt Connect\nKansas City Center for Inclusion \nDon’t forget online orders will not be included in the fundraiser total. Make sure your purchase counts\, order and pay in the store. If you’ve got a gift card feel free to use it\, purchases made with them count. We’ll see you guys on Jun 4th! \n  \nClick the image below for the full sized flyer.
URL:https://kcbearmafia.org/event/guac-on-chipotle-fundraiser/
CATEGORIES:KC Bear Mafia Events
END:VEVENT
END:VCALENDAR