BEGIN:VCALENDAR
VERSION:2.0
PRODID:-// - ECPv5.4.0//NONSGML v1.0//EN
CALSCALE:GREGORIAN
METHOD:PUBLISH
X-ORIGINAL-URL:https://kcbearmafia.org
X-WR-CALDESC:Events for 
BEGIN:VTIMEZONE
TZID:America/Chicago
BEGIN:DAYLIGHT
TZOFFSETFROM:-0600
TZOFFSETTO:-0500
TZNAME:CDT
DTSTART:20180311T080000
END:DAYLIGHT
BEGIN:STANDARD
TZOFFSETFROM:-0500
TZOFFSETTO:-0600
TZNAME:CST
DTSTART:20181104T070000
END:STANDARD
END:VTIMEZONE
BEGIN:VEVENT
DTSTART;TZID=America/Chicago:20181013T170000
DTEND;TZID=America/Chicago:20181013T233000
DTSTAMP:20260420T030442
CREATED:20181001T154021Z
LAST-MODIFIED:20181001T154021Z
UID:2422-1539450000-1539473400@kcbearmafia.org
SUMMARY:HOEdown
DESCRIPTION:Come throw down at the HOEdown! Join your friendly bears once again for an amazing night of BEAROKE\, giveaways\, dancing & plenty of good times! \nCome in your best country getup! \nNO COVER!\n21+ only\nDoors open @ 5PM\nHOEdown starts @ 9PM
URL:https://kcbearmafia.org/event/hoedown/
LOCATION:Arch and Column Pub\, 1301 Business Loop 70 E\, Columbia\, MO\, 65201\, United States
CATEGORIES:Community Events
END:VEVENT
END:VCALENDAR