BEGIN:VCALENDAR
VERSION:2.0
PRODID:-// - ECPv5.4.0//NONSGML v1.0//EN
CALSCALE:GREGORIAN
METHOD:PUBLISH
X-ORIGINAL-URL:https://kcbearmafia.org
X-WR-CALDESC:Events for 
BEGIN:VTIMEZONE
TZID:America/Chicago
BEGIN:DAYLIGHT
TZOFFSETFROM:-0600
TZOFFSETTO:-0500
TZNAME:CDT
DTSTART:20180311T080000
END:DAYLIGHT
BEGIN:STANDARD
TZOFFSETFROM:-0500
TZOFFSETTO:-0600
TZNAME:CST
DTSTART:20181104T070000
END:STANDARD
END:VTIMEZONE
BEGIN:VEVENT
DTSTART;VALUE=DATE:20180831
DTEND;VALUE=DATE:20180904
DTSTAMP:20260422T092210
CREATED:20180626T153426Z
LAST-MODIFIED:20180709T151835Z
UID:2211-1535673600-1536019199@kcbearmafia.org
SUMMARY:KC BEARS at The Canyon
DESCRIPTION:Come join us at CCC for a long weekend. We will host coffee each morning at our campsite. We will plan more activates when we see how many people are going. Check back for updates. If you have any ideas about games or activities PM i am open to all ideas. Also make sure to check out CCC website. \n  \nCactus Canyon Campground\n722 RR 5\, Ava\, Missouri 65608
URL:https://kcbearmafia.org/event/https-www-facebook-com-events-174992546505895/
END:VEVENT
END:VCALENDAR