BEGIN:VCALENDAR
VERSION:2.0
PRODID:-// - ECPv5.4.0//NONSGML v1.0//EN
CALSCALE:GREGORIAN
METHOD:PUBLISH
X-ORIGINAL-URL:https://kcbearmafia.org
X-WR-CALDESC:Events for 
BEGIN:VTIMEZONE
TZID:America/Chicago
BEGIN:DAYLIGHT
TZOFFSETFROM:-0600
TZOFFSETTO:-0500
TZNAME:CDT
DTSTART:20180311T080000
END:DAYLIGHT
BEGIN:STANDARD
TZOFFSETFROM:-0500
TZOFFSETTO:-0600
TZNAME:CST
DTSTART:20181104T070000
END:STANDARD
END:VTIMEZONE
BEGIN:VEVENT
DTSTART;TZID=America/Chicago:20180601T180000
DTEND;TZID=America/Chicago:20180603T190000
DTSTAMP:20260424T215341
CREATED:20180521T165401Z
LAST-MODIFIED:20180521T165401Z
UID:2143-1527876000-1528052400@kcbearmafia.org
SUMMARY:Kansas City PrideFest 2018
DESCRIPTION:“Live Laugh Love… Pride” \nJoin us in celebrating diversity on June 1st\, 2nd & 3rd at Berkley Riverfront Park. Children 12 and under are FREE! \n👉 gaypridekc.org/tickets\n👉 gaypridekc.org/volunteer \nOfficial Kansas City PrideFest 2018 Merch:\n👉 gaypridekc.org/shop \nFrequently Asked Questions:\n👉 gaypridekc.org/#FAQ \nHours of Operation:\nFriday\, June 1st 6:00pm-11:15pm\nSaturday\, June 2nd 12pm-12am\nSunday\, June 3rd 12pm-7pm \nMore information: https://www.gaypridekc.org/ \n*Entertainment schedule is subject to change \n— \nFRIDAY\, JUNE 1:\nGates open at 6 pm and ends at 12 am \nEmcee – Dirty Dorothy\n6:00 pm-11:15 pm \n6:00 pm Rozz Smith – National Anthem\n6:01-7:45 pm DJ Chad Slater\n7:45-8:55 pm Material Girl\n9:15-11:15 pm DJ Roland Belmares \n— \nSATURDAY\, JUNE 2:\nTrans Awareness Day\nGates open at 12 pm and ends at 12 am \nEmcee – Widow Von’du\n12:00-5:00 pm\nEmcees – Flo and Melinda Ryder\n5:00-11:20 pm \n12:00 pm Rozz Smith – National Anthem\n12:20-12:45 pm Tucker William\n12:50-1:10 pm JAIE\n1:15-1:20 pm Trans Awareness Day Committee\n1:30-2:15 pm Radial Red\n2:35-2:50 pm Jordan Haase\n2:55-3:35 pm Royalty Court\n3:40-3:50 pm Dove\n4:00-4:30 pm Mid America Freedom Band\n4:45-5:05 pm Sidekicks – Latinos\n5:10-5:25 pm Buttwiser’s Bash\n5:30-5:45 pm Black Pride\n5:50-6:05 pm Kansas City Womens Chorus\n6:20-6:50 pm Heartland Men’s Chorus\n6:55-7:15 pm Presentations\n7:25-7:40 pm KC Sunshine – The Midwest Michaeal\n7:45-8:00 pm Widow Von’Du\n8:05-8:45 pm Daisy Buckët\n8:50-9:05 pm Missie B’s\n9:15-9:55 pm David Hernandez\n10:00-10:40 pm Frenchie Davis\n10:45-11:30 pm Billy Gilman \n— \nSUNDAY\, JUNE 3:\nGates open at 12 pm and ends at 7 pm\nFREE entry from 12 pm to 1 pm \nEmcee – Sasha Blake\n12:00-4:00 pm\nEmcee – Buddy and Budweiser\n4:00-7:00 pm \n12:00 pm Rozz Smith – National Anthem\n12:01-1:45 pm Sidekicks Talentshow\nFeaturing:\nAndria Temptations\nJaharia Von Du\nMicah Rotch\nMonica Blowinsky\nNora Demented\nSasha Blake\nSapphire Reign\nSmiles\nVeronica Vixen\nZackery Roberts\n2:00-2:25 pm Hamburger Mary’s\n2:30-2:45 pm Transfinity KC\n2:55-3:10 pm SideKicks\n3:30-4:30 pm Mad Libby\n4:50-5:05 pm Nikita Wood-Rowe\n5:15-5:45 pm Monique Heart\n6:00-6:45 pm Thelma Houston\n6:50 pm Volunteer Thank You \n— \nOngoing Activities on Friday\, Saturday & Sunday: \nCarnival Rides and Games\nCommerce Bank Kids Zone – Saturday and Sunday\nBody Shop – FREE HIV testing & immunizations\, PrEP/PEP information and STI screenings\nLGBTQIA Youth Hang Out\nMarket Place\nFood Fair – Featuring local cuisine\nAnimal Adoptions\nVolley Ball Tournament – Saturday Afternoon\nKC Gay Volley Ball – Sunday Afternoon\nRenaissance Festival Characters roaming the park \n— \nFestival Hours: Friday\, June 1st: 6 pm-11:30 pm- $10 admission\, Saturday\, June 2nd: noon to 11:30 pm – $10 admission\, Sunday\, June 3rd: noon to 7 pm – $10 admission. There will be free admission on Sunday from noon to 1 pm. \nDiscounted Tickets are NOW on sale through May 27th. Single day tickets are just $7.50 and the Weekend Pass is only $18.50. \nChildren 12 and under are FREE. \nDrink wristbands are FREE with admission for those who are 21 and older. Wristbands = No cover charge at Missie B’s on Friday and Saturday and no cover charge at Sidekicks on Saturday. \nWHERE TO STAY: THE HAMPTON COUNTRY CLUB PLAZA IS OFFERING A PRIDE DISCOUNT\, TO ACCESS THE ROOM BLOCK\, GO TO WWW.GAYPRIDEKC.ORG \nThe festival is open to all ages (Children 12 and under with parents) get free admission. To get your drink wristband you must present a valid drivers license. A wristband is required to purchase drink tickets and will be checked at the bars as well. \nWHAT ARE MY TRANSPORTATION/PARKING OPTIONS GETTING TO THE FESTIVAL? \nThere is limited parking available at Berkley Riverfront Park. Parking is $5 per car. Or you can park along the Street Car route located on Main St./ The Grand St and enter off of the 3rd and Grand St. entrance which is just a short walk to the festival via the Grand St. Viaduct. \nWHAT CAN/CAN’T I BRING TO THE FESTIVAL \nYou CANNOT bring your pets (ie. cats or dogs)\, coolers\, water bottles\, can/glass refreshments\, fire arms\, pocket knives or fireworks. You CAN bring a blanket or lawn chair. \nHOW CAN I CONTACT THE ORGANIZER WITH ANY QUESTIONS? \nPlease call 816-960-3400 up to May 29.
URL:https://kcbearmafia.org/event/kansas-city-pridefest-2018/
LOCATION:Berkley Riverfront Park\, 1298 E Riverfront Dr\, Kansas City\, Missouri\, 64105\, United States
CATEGORIES:Community Events
END:VEVENT
END:VCALENDAR