BEGIN:VCALENDAR
VERSION:2.0
PRODID:-// - ECPv5.4.0//NONSGML v1.0//EN
CALSCALE:GREGORIAN
METHOD:PUBLISH
X-ORIGINAL-URL:https://kcbearmafia.org
X-WR-CALDESC:Events for 
BEGIN:VTIMEZONE
TZID:America/Chicago
BEGIN:DAYLIGHT
TZOFFSETFROM:-0600
TZOFFSETTO:-0500
TZNAME:CDT
DTSTART:20180311T080000
END:DAYLIGHT
BEGIN:STANDARD
TZOFFSETFROM:-0500
TZOFFSETTO:-0600
TZNAME:CST
DTSTART:20181104T070000
END:STANDARD
END:VTIMEZONE
BEGIN:VEVENT
DTSTART;TZID=America/Chicago:20180429T140000
DTEND;TZID=America/Chicago:20180429T163000
DTSTAMP:20260425T192958
CREATED:20180424T142341Z
LAST-MODIFIED:20180424T142341Z
UID:2045-1525010400-1525019400@kcbearmafia.org
SUMMARY:KCBM: Spring Volleyball - Sunday
DESCRIPTION:Nice weather alert. We will play in April on Thursday and Sunday as long as the weather is above 60. \nDon’t know how to play? Not to worry\, We will go over general game play and practice before we start the games. \nWe will be setup in the South East corner of the park behind the McDonalds at 84th and Wornall. \nEveryone is welcome to join us. We are a not-so-competitive group that gets together to exercise and to catch up with each other. We usually gather for dinner afterwards at places that don’t mind having hungry\, tired\, sweaty and hairy gays in their restaurants. \nAs a reminder\, here is the Code of Conduct we established for ourselves. \nKansas City Bear Mafia Volleyball Code of Conduct. \nKCBM Volleyball is a great place for volleyball players of all skill levels to come together and share in\, or discover\, their enjoyment for the game. We are not a competitive league and play is purely recreational. However\, we do enjoy healthy competition. Our main goal is simple\, we want all players to have fun! We have a few simple guidelines\, and do our best to follow them. \n1. We always treat each other with respect and dignity. And we hold each other to that standard. \n2. We work together as a team and strive for three hits when possible. \n3. We communicate with each other. Do your best to call the ball and provide encouragement to your fellow teammates. \n4. Teams are picked by random chip drawing\, best 2 out of 3 games and then new teams.
URL:https://kcbearmafia.org/event/kcbm-spring-volleyball-sunday/
LOCATION:Sunnyside Park\, 8399 Summit\, Kansas City\, MO\, 64114\, United States
CATEGORIES:KC Bear Mafia Events,Member Created Events
END:VEVENT
END:VCALENDAR