BEGIN:VCALENDAR
VERSION:2.0
PRODID:-// - ECPv5.4.0//NONSGML v1.0//EN
CALSCALE:GREGORIAN
METHOD:PUBLISH
X-ORIGINAL-URL:https://kcbearmafia.org
X-WR-CALDESC:Events for 
BEGIN:VTIMEZONE
TZID:America/Chicago
BEGIN:DAYLIGHT
TZOFFSETFROM:-0600
TZOFFSETTO:-0500
TZNAME:CDT
DTSTART:20180311T080000
END:DAYLIGHT
BEGIN:STANDARD
TZOFFSETFROM:-0500
TZOFFSETTO:-0600
TZNAME:CST
DTSTART:20181104T070000
END:STANDARD
END:VTIMEZONE
BEGIN:VEVENT
DTSTART;TZID=America/Chicago:20180616T103000
DTEND;TZID=America/Chicago:20180616T123000
DTSTAMP:20260424T074400
CREATED:20180521T164943Z
LAST-MODIFIED:20180521T164943Z
UID:2141-1529145000-1529152200@kcbearmafia.org
SUMMARY:Mafia Movie Day Incredibles 2
DESCRIPTION:Finally the Incredibles are back!\nWe normally do Sundays but with Fathers Day the next day\, figure do a Saturday morning show.\nHere’s the link to buy tickets. Row F started. \nhttps://www.amctheatres.com/movies/the-incredibles-2-49549/showtimes/the-incredibles-2-49549/2018-06-16/amc-ward-parkway-14/all
URL:https://kcbearmafia.org/event/mafia-movie-day-incredibles-2/
LOCATION:AMC Ward Parkway\, 8600 Ward Pkwy Suite 14\, Kansas City\, MO\, 64114\, United States
CATEGORIES:Member Created Events
END:VEVENT
END:VCALENDAR