BEGIN:VCALENDAR
VERSION:2.0
PRODID:-// - ECPv5.4.0//NONSGML v1.0//EN
CALSCALE:GREGORIAN
METHOD:PUBLISH
X-ORIGINAL-URL:https://kcbearmafia.org
X-WR-CALDESC:Events for 
BEGIN:VTIMEZONE
TZID:America/Chicago
BEGIN:DAYLIGHT
TZOFFSETFROM:-0600
TZOFFSETTO:-0500
TZNAME:CDT
DTSTART:20180311T080000
END:DAYLIGHT
BEGIN:STANDARD
TZOFFSETFROM:-0500
TZOFFSETTO:-0600
TZNAME:CST
DTSTART:20181104T070000
END:STANDARD
END:VTIMEZONE
BEGIN:VEVENT
DTSTART;TZID=America/Chicago:20180630T100000
DTEND;TZID=America/Chicago:20180630T230000
DTSTAMP:20260423T211609
CREATED:20180521T165733Z
LAST-MODIFIED:20180521T165733Z
UID:2146-1530352800-1530399600@kcbearmafia.org
SUMMARY:Ride With Pride 2018
DESCRIPTION:Ride with Pride day at Worlds of Fun will happen Saturday\, June 30th. \n• DJ Chad Slater will be spinning the tunes just for you in The Grand Pavilion from 8-10 p.m.\n• We will have cash bar service in the Pavilion\n• We plan on taking a group picture that day – time and location to be announced. So purchase your purple shirt so that everyone in the park will see the Power of Pride in our city! \n$36 Discounted Tickets\n$2 for Season Pass holders \n$2 of every admission ticket and $1 of every event ticket purchased goes back to Kansas City Diversity Coalition. \nTake advantage of the ticket savings today! Compare the pricing to the gate price of $62 plus tax per person. \n• Discount Admission & Event Ticket for $36 plus tax\n• Event only ticket for $2 plus tax (for Season Passholders)\n• Visit worldsoffun.com/KCDiversity (this link takes you straight to the ticket options)\n• The ticket prices WILL increase on June 23rd\, so purchase your ticket before that date to save the most money. \nRide With Pride 2018 Group Picture Apparel \nOfficial Ride With Pride 2018 apparel is available at our website until June 15th\, 2018 at Noon.
URL:https://kcbearmafia.org/event/ride-with-pride-2018/
LOCATION:Worlds of Fun\, 4545 Worlds of Fun Ave\, Kansas City\, MO\, 64161\, United States
CATEGORIES:Community Events
END:VEVENT
END:VCALENDAR